BEGIN:VCALENDAR
VERSION:2.0
PRODID:icalendar-ruby
CALSCALE:GREGORIAN
BEGIN:VEVENT
DTSTAMP:20260419T122709Z
UID:19a75c4c-ff67-4978-9a58-481f2b8268e2
DTSTART;TZID=Pacific/Auckland:20260422T190000
DTEND;TZID=Pacific/Auckland:20260422T193000
DESCRIPTION:Property ID# 664675
SUMMARY:Openhome for 7 Bluebird Lane
END:VEVENT
END:VCALENDAR
